BEGIN:VCALENDAR
VERSION:2.0
PRODID:icalendar-ruby
CALSCALE:GREGORIAN
BEGIN:VEVENT
DTSTAMP:20210122T163300Z
UID:88097d62-af10-4ab8-b081-a10f75f34fae
DTSTART;VALUE=DATE:20190828
DESCRIPTION:Property ID# 459074\, Locatoin: Harcourts Office Upper Hutt\, T
 ime: 3:00PM
SUMMARY:Auction for 
END:VEVENT
END:VCALENDAR
