BEGIN:VCALENDAR
VERSION:2.0
PRODID:icalendar-ruby
CALSCALE:GREGORIAN
BEGIN:VEVENT
DTSTAMP:20210122T163259Z
UID:2ca7f9af-d1fa-4cc3-a664-a227977abaf4
DTSTART;VALUE=DATE:20190911
DESCRIPTION:Property ID# 459999\, Locatoin: Harcourts Office Upper Hutt\, T
 ime: 3:00PM
SUMMARY:Auction for 
END:VEVENT
END:VCALENDAR
