BEGIN:VCALENDAR
VERSION:2.0
PRODID:icalendar-ruby
CALSCALE:GREGORIAN
BEGIN:VEVENT
DTSTAMP:20210119T194520Z
UID:cc125bc2-b447-45d7-bb9f-6c427b3468f0
DTSTART;VALUE=DATE:20191105
DESCRIPTION:Property ID# 464224\, Time: 4:30PM
SUMMARY:Auction for 
END:VEVENT
END:VCALENDAR
