BEGIN:VCALENDAR
VERSION:2.0
PRODID:icalendar-ruby
CALSCALE:GREGORIAN
BEGIN:VEVENT
DTSTAMP:20210122T163140Z
UID:ffd13e7d-05ab-4895-9c1f-3bfec4864797
DTSTART;VALUE=DATE:20191114
DESCRIPTION:Property ID# 465783\, Time: 12:30PM
SUMMARY:Auction for 
END:VEVENT
END:VCALENDAR
