BEGIN:VCALENDAR
VERSION:2.0
PRODID:icalendar-ruby
CALSCALE:GREGORIAN
BEGIN:VEVENT
DTSTAMP:20210119T194516Z
UID:0ee86f03-4e76-4e11-8a11-0722739742cc
DTSTART;VALUE=DATE:20200212
DESCRIPTION:Property ID# 470442\, Locatoin: 100 Gibbons Street\, Ebdentown\
 , Upper Hutt\, Time: 12:00PM
SUMMARY:Auction for 
END:VEVENT
END:VCALENDAR
