BEGIN:VCALENDAR
VERSION:2.0
PRODID:icalendar-ruby
CALSCALE:GREGORIAN
BEGIN:VEVENT
DTSTAMP:20210122T163215Z
UID:d855c650-0326-4359-9234-c137e4dc72c4
DTSTART;VALUE=DATE:20200317
DESCRIPTION:Property ID# 474894\, Locatoin: 9-11 Kings Crescent Lower Hutt\
 , Time: 12:00PM
SUMMARY:Auction for 
END:VEVENT
END:VCALENDAR
