BEGIN:VCALENDAR
VERSION:2.0
PRODID:icalendar-ruby
CALSCALE:GREGORIAN
BEGIN:VEVENT
DTSTAMP:20210119T194410Z
UID:fe2fdfca-b868-4c9e-a049-931fc5080481
DTSTART;VALUE=DATE:20200325
DESCRIPTION:Property ID# 475412\, Locatoin: 9-11 Kings Crescent Lower Hutt\
 , Time: 2:00PM
SUMMARY:Auction for 
END:VEVENT
END:VCALENDAR
