BEGIN:VCALENDAR
VERSION:2.0
PRODID:icalendar-ruby
CALSCALE:GREGORIAN
BEGIN:VEVENT
DTSTAMP:20210119T194500Z
UID:94814514-3168-4549-9c8e-414c789e7132
DTSTART;VALUE=DATE:20200630
DESCRIPTION:Property ID# 482619\, Locatoin: Harcourts Lower Hutt Office\, 5
 16 High Street\, Lower Hutt (unless sold prior)\, Time: 12:00PM
SUMMARY:Auction for 
END:VEVENT
END:VCALENDAR
