BEGIN:VCALENDAR
VERSION:2.0
PRODID:icalendar-ruby
CALSCALE:GREGORIAN
BEGIN:VEVENT
DTSTAMP:20210119T194513Z
UID:5026ada4-6b5a-428b-a9b7-a525ba7a9106
DTSTART;VALUE=DATE:20200813
DESCRIPTION:Property ID# 485742\, Locatoin: Stirling Real Estate Ltd\, 44-5
 8 Queens Drive\, Lower Hutt\, Time: 1:00PM
SUMMARY:Auction for 
END:VEVENT
END:VCALENDAR
