BEGIN:VCALENDAR
VERSION:2.0
PRODID:icalendar-ruby
CALSCALE:GREGORIAN
BEGIN:VEVENT
DTSTAMP:20210122T163137Z
UID:d6545dfb-f3df-406d-be6a-4312f1fcfa8b
DTSTART;VALUE=DATE:20200827
DESCRIPTION:Property ID# 486958\, Time: 12:30PM
SUMMARY:Auction for 
END:VEVENT
END:VCALENDAR
