BEGIN:VCALENDAR
VERSION:2.0
PRODID:icalendar-ruby
CALSCALE:GREGORIAN
BEGIN:VEVENT
DTSTAMP:20210119T194407Z
UID:aa79ec60-8552-40dd-a868-ead8a3290138
DTSTART;VALUE=DATE:20200909
DESCRIPTION:Property ID# 488585\, Locatoin: 9-11 Kings Crescent Lower Hutt\
 , Time: 1:00PM
SUMMARY:Auction for 
END:VEVENT
END:VCALENDAR
