BEGIN:VCALENDAR
VERSION:2.0
PRODID:icalendar-ruby
CALSCALE:GREGORIAN
BEGIN:VEVENT
DTSTAMP:20210119T194519Z
UID:fbef7f7f-c5fa-4ab0-810e-44cea17d72f4
DTSTART;VALUE=DATE:20200916
DESCRIPTION:Property ID# 488702\, Time: 5:30PM
SUMMARY:Auction for 
END:VEVENT
END:VCALENDAR
