BEGIN:VCALENDAR
VERSION:2.0
PRODID:icalendar-ruby
CALSCALE:GREGORIAN
BEGIN:VEVENT
DTSTAMP:20210119T194352Z
UID:ee94c5ea-7e1b-4048-9031-00d29a18f72e
DTSTART;VALUE=DATE:20201008
DESCRIPTION:Property ID# 490098\, Time: 12:30PM
SUMMARY:Auction for 
END:VEVENT
END:VCALENDAR
