BEGIN:VCALENDAR
VERSION:2.0
PRODID:icalendar-ruby
CALSCALE:GREGORIAN
BEGIN:VEVENT
DTSTAMP:20210119T194442Z
UID:2276cdef-c5f3-46e5-932f-ddfb64771196
DTSTART;VALUE=DATE:20201015
DESCRIPTION:Property ID# 491770\, Time: 12:30PM
SUMMARY:Auction for 
END:VEVENT
END:VCALENDAR
