BEGIN:VCALENDAR
VERSION:2.0
PRODID:icalendar-ruby
CALSCALE:GREGORIAN
BEGIN:VEVENT
DTSTAMP:20210122T163248Z
UID:bec3412e-79f6-47d4-8f94-5fbf5af5e526
DTSTART;VALUE=DATE:20201029
DESCRIPTION:Property ID# 492114\, Time: 12:00PM
SUMMARY:Auction for 
END:VEVENT
END:VCALENDAR
