BEGIN:VCALENDAR
VERSION:2.0
PRODID:icalendar-ruby
CALSCALE:GREGORIAN
BEGIN:VEVENT
DTSTAMP:20210122T163233Z
UID:9394ece1-7459-45b5-85db-07e40fc573d8
DTSTART;VALUE=DATE:20201105
DESCRIPTION:Property ID# 492609\, Time: 12:30PM
SUMMARY:Auction for 
END:VEVENT
END:VCALENDAR
