BEGIN:VCALENDAR
VERSION:2.0
PRODID:icalendar-ruby
CALSCALE:GREGORIAN
BEGIN:VEVENT
DTSTAMP:20210119T194425Z
UID:e5b45074-1671-4906-9736-38ccbedc9bbd
DTSTART;VALUE=DATE:20201112
DESCRIPTION:Property ID# 493193\, Time: 12:30PM
SUMMARY:Auction for 
END:VEVENT
END:VCALENDAR
