BEGIN:VCALENDAR
VERSION:2.0
PRODID:icalendar-ruby
CALSCALE:GREGORIAN
BEGIN:VEVENT
DTSTAMP:20210119T194422Z
UID:a28d61f2-b967-48b0-8f42-5c2554c68d55
DTSTART;VALUE=DATE:20201126
DESCRIPTION:Property ID# 494324\, Time: 12:30PM
SUMMARY:Auction for 
END:VEVENT
END:VCALENDAR
