BEGIN:VCALENDAR
VERSION:2.0
PRODID:icalendar-ruby
CALSCALE:GREGORIAN
BEGIN:VEVENT
DTSTAMP:20210119T194419Z
UID:75a0760c-9550-4f12-bb21-4ff822a04fc6
DTSTART;VALUE=DATE:20201214
DESCRIPTION:Property ID# 496427\, Time: 12:30PM
SUMMARY:Auction for 
END:VEVENT
END:VCALENDAR
