BEGIN:VCALENDAR
VERSION:2.0
PRODID:icalendar-ruby
CALSCALE:GREGORIAN
BEGIN:VEVENT
DTSTAMP:20210119T194340Z
UID:5426a531-76bd-4ce2-af32-9c7d15c8875e
DTSTART;VALUE=DATE:20201212
DESCRIPTION:Property ID# 497234\, Time: 11:00AM
SUMMARY:Auction for 
END:VEVENT
END:VCALENDAR
