BEGIN:VCALENDAR
VERSION:2.0
PRODID:icalendar-ruby
CALSCALE:GREGORIAN
BEGIN:VEVENT
DTSTAMP:20210122T163129Z
UID:baef84c3-23ae-4224-9ec8-aa8e5dddbb3f
DTSTART;VALUE=DATE:20201210
DESCRIPTION:Property ID# 497347\, Time: 12:30PM
SUMMARY:Auction for 
END:VEVENT
END:VCALENDAR
