BEGIN:VCALENDAR
VERSION:2.0
PRODID:icalendar-ruby
CALSCALE:GREGORIAN
BEGIN:VEVENT
DTSTAMP:20210122T163245Z
UID:9d0cf7a3-0d77-4dfd-9ff5-e0385d246afc
DTSTART;VALUE=DATE:20201217
DESCRIPTION:Property ID# 498059\, Time: 1:00PM
SUMMARY:Auction for 
END:VEVENT
END:VCALENDAR
