BEGIN:VCALENDAR
VERSION:2.0
PRODID:icalendar-ruby
CALSCALE:GREGORIAN
BEGIN:VEVENT
DTSTAMP:20210119T194401Z
UID:e4aa2cb6-4b52-4c91-9051-7c34fb402916
DTSTART;VALUE=DATE:20210120
DESCRIPTION:Property ID# 499275\, Locatoin: 9-11 Kings Crescent Lower Hutt\
 , Time: 1:00PM
SUMMARY:Auction for 
END:VEVENT
END:VCALENDAR
