BEGIN:VCALENDAR
VERSION:2.0
PRODID:icalendar-ruby
CALSCALE:GREGORIAN
BEGIN:VEVENT
DTSTAMP:20210119T193318Z
UID:32618711-8364-4b81-a3e7-292457a008dd
DTSTART;VALUE=DATE:20210128
DESCRIPTION:Property ID# 499352\, Locatoin: Harcourts Lower Hutt Office\, 5
 16 High Street\, Lower Hutt (No Prior Sale)\, Time: 4:00PM
SUMMARY:Auction for 41 Hawkins Street
END:VEVENT
END:VCALENDAR
