BEGIN:VCALENDAR
VERSION:2.0
PRODID:icalendar-ruby
CALSCALE:GREGORIAN
BEGIN:VEVENT
DTSTAMP:20210119T193303Z
UID:2d1d51ef-7e58-423a-9c85-53d1001a9d4a
DTSTART;VALUE=DATE:20210204
DESCRIPTION:Property ID# 499455\, Time: 12:30PM
SUMMARY:Auction for 177 Tirohanga Road
END:VEVENT
END:VCALENDAR
