BEGIN:VCALENDAR
VERSION:2.0
PRODID:icalendar-ruby
CALSCALE:GREGORIAN
BEGIN:VEVENT
DTSTAMP:20210119T193254Z
UID:2ff0687b-5b39-4d64-a406-9261f8a98128
DTSTART;VALUE=DATE:20210202
DESCRIPTION:Property ID# 499457\, Locatoin: 9-11 Kings Crescent Lower Hutt\
 , Time: 1:00PM
SUMMARY:Auction for 
END:VEVENT
END:VCALENDAR
