BEGIN:VCALENDAR
VERSION:2.0
PRODID:icalendar-ruby
CALSCALE:GREGORIAN
BEGIN:VEVENT
DTSTAMP:20210119T193247Z
UID:43854691-4f15-4d4d-95d4-db5a8d888576
DTSTART;VALUE=DATE:20210204
DESCRIPTION:Property ID# 499553\, Locatoin: Ray White 9/11 Kings Crescent\,
  Lower Hutt\, Time: 12:00PM
SUMMARY:Auction for 40a Cambridge tce
END:VEVENT
END:VCALENDAR
