BEGIN:VCALENDAR
VERSION:2.0
PRODID:icalendar-ruby
CALSCALE:GREGORIAN
BEGIN:VEVENT
DTSTAMP:20210122T163203Z
UID:84427361-511b-4b05-8080-06fa7778da2e
DTSTART;VALUE=DATE:20210204
DESCRIPTION:Property ID# 500025\, Locatoin: 9-11 Kings Crescent Lower Hutt 
 - 1pm\, Time: 12:00PM
SUMMARY:Auction for 7 Russell Road
END:VEVENT
END:VCALENDAR
