BEGIN:VCALENDAR
VERSION:2.0
PRODID:icalendar-ruby
CALSCALE:GREGORIAN
BEGIN:VEVENT
DTSTAMP:20210119T193316Z
UID:ad615ee6-fd06-4798-91dd-cb92dc287467
DTSTART;TZID=Pacific/Auckland:20210121T180000
DTEND;TZID=Pacific/Auckland:20210121T183000
DESCRIPTION:Property ID# 499352
SUMMARY:Openhome for 41 Hawkins Street
END:VEVENT
END:VCALENDAR
