BEGIN:VCALENDAR
VERSION:2.0
PRODID:icalendar-ruby
CALSCALE:GREGORIAN
BEGIN:VEVENT
DTSTAMP:20210122T163240Z
UID:a074a103-640d-4314-ba3a-d039bb082916
DTSTART;TZID=Pacific/Auckland:20210124T123000
DTEND;TZID=Pacific/Auckland:20210124T130000
DESCRIPTION:Property ID# 499708
SUMMARY:Openhome for 7B Gurney Road
END:VEVENT
END:VCALENDAR
