BEGIN:VCALENDAR
VERSION:2.0
PRODID:icalendar-ruby
CALSCALE:GREGORIAN
BEGIN:VEVENT
DTSTAMP:20210119T193248Z
UID:66a8690d-85fb-4dad-9e20-9dd0d6308659
DTSTART;TZID=Pacific/Auckland:20210124T131500
DTEND;TZID=Pacific/Auckland:20210124T140000
DESCRIPTION:Property ID# 499049
SUMMARY:Openhome for 17 Norfolk Street
END:VEVENT
END:VCALENDAR
