BEGIN:VCALENDAR
VERSION:2.0
PRODID:icalendar-ruby
CALSCALE:GREGORIAN
BEGIN:VEVENT
DTSTAMP:20210122T162231Z
UID:f22bcc74-6b46-4770-8636-5944f98b3163
DTSTART;TZID=Pacific/Auckland:20210123T130000
DTEND;TZID=Pacific/Auckland:20210123T133000
DESCRIPTION:Property ID# 499397
SUMMARY:Openhome for 23 Picasso Grove
END:VEVENT
END:VCALENDAR
