BEGIN:VCALENDAR
VERSION:2.0
PRODID:icalendar-ruby
CALSCALE:GREGORIAN
BEGIN:VEVENT
DTSTAMP:20210119T194445Z
UID:c8ce571b-e7fc-474c-9258-8924bc16fd59
DTSTART;TZID=Pacific/Auckland:20210124T114500
DTEND;TZID=Pacific/Auckland:20210124T121500
DESCRIPTION:Property ID# 499970
SUMMARY:Openhome for 13 Otira Grove
END:VEVENT
END:VCALENDAR
