BEGIN:VCALENDAR
VERSION:2.0
PRODID:icalendar-ruby
CALSCALE:GREGORIAN
BEGIN:VEVENT
DTSTAMP:20210119T193301Z
UID:6e5814e8-96fd-4c80-b61a-088d99dcfc0e
DTSTART;TZID=Pacific/Auckland:20210121T173000
DTEND;TZID=Pacific/Auckland:20210121T181500
DESCRIPTION:Property ID# 499455
SUMMARY:Openhome for 177 Tirohanga Road
END:VEVENT
END:VCALENDAR
