BEGIN:VCALENDAR
VERSION:2.0
PRODID:icalendar-ruby
CALSCALE:GREGORIAN
BEGIN:VEVENT
DTSTAMP:20210119T193326Z
UID:bbf6a0b4-bc9e-4799-ad9d-21967735260c
DTSTART;TZID=Pacific/Auckland:20210124T100000
DTEND;TZID=Pacific/Auckland:20210124T103000
DESCRIPTION:Property ID# 498530
SUMMARY:Openhome for 34 McBain Grove
END:VEVENT
END:VCALENDAR
