BEGIN:VCALENDAR
VERSION:2.0
PRODID:icalendar-ruby
CALSCALE:GREGORIAN
BEGIN:VEVENT
DTSTAMP:20210119T193241Z
UID:c3db73e0-2e9c-452f-b60a-1e125ac5292d
DTSTART;TZID=Pacific/Auckland:20210124T131500
DTEND;TZID=Pacific/Auckland:20210124T134500
DESCRIPTION:Property ID# 499958
SUMMARY:Openhome for 37 Mandel Mews
END:VEVENT
END:VCALENDAR
