BEGIN:VCALENDAR
VERSION:2.0
PRODID:icalendar-ruby
CALSCALE:GREGORIAN
BEGIN:VEVENT
DTSTAMP:20210119T193236Z
UID:864d6684-34ab-4453-99e0-0c700df02c24
DTSTART;TZID=Pacific/Auckland:20210123T120000
DTEND;TZID=Pacific/Auckland:20210123T123000
DESCRIPTION:Property ID# 500026
SUMMARY:Openhome for 1/34 Rossiter Avenue
END:VEVENT
END:VCALENDAR
