BEGIN:VCALENDAR
VERSION:2.0
PRODID:icalendar-ruby
CALSCALE:GREGORIAN
BEGIN:VEVENT
DTSTAMP:20210119T193245Z
UID:5478ae8b-b0e7-4793-a8cb-ee9f4e9bd021
DTSTART;TZID=Pacific/Auckland:20210124T130000
DTEND;TZID=Pacific/Auckland:20210124T133000
DESCRIPTION:Property ID# 499396
SUMMARY:Openhome for 7/95 Epuni Street
END:VEVENT
END:VCALENDAR
