BEGIN:VCALENDAR
VERSION:2.0
PRODID:icalendar-ruby
CALSCALE:GREGORIAN
BEGIN:VEVENT
DTSTAMP:20210122T163237Z
UID:e529fe14-2ccb-4b31-86cd-985a304edd2a
DTSTART;TZID=Pacific/Auckland:20210123T134500
DTEND;TZID=Pacific/Auckland:20210123T141500
DESCRIPTION:Property ID# 499970
SUMMARY:Openhome for 13 Otira Grove
END:VEVENT
END:VCALENDAR
