BEGIN:VCALENDAR
VERSION:2.0
PRODID:icalendar-ruby
CALSCALE:GREGORIAN
BEGIN:VEVENT
DTSTAMP:20210122T162147Z
UID:9a7dabbf-059e-4f16-88df-e5d1901df400
DTSTART;TZID=Pacific/Auckland:20210123T123000
DTEND;TZID=Pacific/Auckland:20210123T130000
DESCRIPTION:Property ID# 500298
SUMMARY:Openhome for 4/544 High Street
END:VEVENT
END:VCALENDAR
