BEGIN:VCALENDAR
VERSION:2.0
PRODID:icalendar-ruby
CALSCALE:GREGORIAN
BEGIN:VEVENT
DTSTAMP:20260423T055407Z
UID:f1c693fd-805d-49d4-94bd-e4ee57e9f344
DTSTART;VALUE=DATE:20201119
DESCRIPTION:Property ID# 493800\, Time: 12:30PM
SUMMARY:Auction for 
END:VEVENT
END:VCALENDAR
