BEGIN:VCALENDAR
VERSION:2.0
PRODID:icalendar-ruby
CALSCALE:GREGORIAN
BEGIN:VEVENT
DTSTAMP:20260423T180918Z
UID:d76b38c5-0f41-4178-ab74-7a5f83ddce48
DTSTART;VALUE=DATE:20201205
DESCRIPTION:Property ID# 496256\, Time: 11:00AM
SUMMARY:Auction for 
END:VEVENT
END:VCALENDAR
