BEGIN:VCALENDAR
VERSION:2.0
PRODID:icalendar-ruby
CALSCALE:GREGORIAN
BEGIN:VEVENT
DTSTAMP:20260423T211427Z
UID:e0ea3242-3758-4d99-98a1-0f6851f43339
DTSTART;VALUE=DATE:20210429
DESCRIPTION:Property ID# 507214\, Time: 12:30PM
SUMMARY:Auction for 
END:VEVENT
END:VCALENDAR
